BEGIN:VCALENDAR
VERSION:2.0
PRODID:-//CULTPOP ® - ECPv6.6.4.2//NONSGML v1.0//EN
CALSCALE:GREGORIAN
METHOD:PUBLISH
X-ORIGINAL-URL:https://cultpop.world
X-WR-CALDESC:Events for CULTPOP ®
REFRESH-INTERVAL;VALUE=DURATION:PT1H
X-Robots-Tag:noindex
X-PUBLISHED-TTL:PT1H
BEGIN:VTIMEZONE
TZID:UTC
BEGIN:STANDARD
TZOFFSETFROM:+0000
TZOFFSETTO:+0000
TZNAME:UTC
DTSTART:20260101T000000
END:STANDARD
END:VTIMEZONE
BEGIN:VEVENT
DTSTART;TZID=UTC:20260101T180000
DTEND;TZID=UTC:20260102T040000
DTSTAMP:20260419T183717
CREATED:20251215T185053Z
LAST-MODIFIED:20251215T185146Z
UID:2978-1767290400-1767326400@cultpop.world
SUMMARY:THE KICKBACK '26
DESCRIPTION:CULTPOP returns with a carefully curated run of nights designed for every mood\, moment\, and memory. From high-energy dance floors to intimate\, community-driven gatherings\, each event is its own world — connected by sound\, culture\, and the people who show up. \nWhether you’re here to move\, to feel\, to connect\, or to simply be outside\, DEZEMBA offers a CULTPOP experience made for you. \nTHE KICKBACK offers an easygoing space to unwind\, socialize\, and enjoy great music in good company — no rush\, no pressure\, just presence.
URL:https://cultpop.world/events/the-kickback-26/
LOCATION:Aria Accra\, Afrikiko\, Liberation Road\, Accra\, Accra\, HR59+62G\, Accra\, Ghana
CATEGORIES:CULTPOP Presents
ATTACH;FMTTYPE=image/png:https://cultpop.world/wp-content/uploads/2025/12/thekickback.png
ORGANIZER;CN="CULTPOP WORLDWIDE":MAILTO:info@cultpop.world
END:VEVENT
END:VCALENDAR